BEGIN:VCALENDAR
VERSION:2.0
PRODID:-//Potluck Asian America - ECPv6.15.20//NONSGML v1.0//EN
CALSCALE:GREGORIAN
METHOD:PUBLISH
X-WR-CALNAME:Potluck Asian America
X-ORIGINAL-URL:https://potluckasianamerica.org
X-WR-CALDESC:Events for Potluck Asian America
REFRESH-INTERVAL;VALUE=DURATION:PT1H
X-Robots-Tag:noindex
X-PUBLISHED-TTL:PT1H
BEGIN:VTIMEZONE
TZID:America/New_York
BEGIN:DAYLIGHT
TZOFFSETFROM:-0500
TZOFFSETTO:-0400
TZNAME:EDT
DTSTART:20240310T070000
END:DAYLIGHT
BEGIN:STANDARD
TZOFFSETFROM:-0400
TZOFFSETTO:-0500
TZNAME:EST
DTSTART:20241103T060000
END:STANDARD
BEGIN:DAYLIGHT
TZOFFSETFROM:-0500
TZOFFSETTO:-0400
TZNAME:EDT
DTSTART:20250309T070000
END:DAYLIGHT
BEGIN:STANDARD
TZOFFSETFROM:-0400
TZOFFSETTO:-0500
TZNAME:EST
DTSTART:20251102T060000
END:STANDARD
BEGIN:DAYLIGHT
TZOFFSETFROM:-0500
TZOFFSETTO:-0400
TZNAME:EDT
DTSTART:20260308T070000
END:DAYLIGHT
BEGIN:STANDARD
TZOFFSETFROM:-0400
TZOFFSETTO:-0500
TZNAME:EST
DTSTART:20261101T060000
END:STANDARD
BEGIN:DAYLIGHT
TZOFFSETFROM:-0500
TZOFFSETTO:-0400
TZNAME:EDT
DTSTART:20270314T070000
END:DAYLIGHT
BEGIN:STANDARD
TZOFFSETFROM:-0400
TZOFFSETTO:-0500
TZNAME:EST
DTSTART:20271107T060000
END:STANDARD
END:VTIMEZONE
BEGIN:VEVENT
DTSTART;VALUE=DATE:20250829
DTEND;VALUE=DATE:20260427
DTSTAMP:20260423T132339
CREATED:20250914T233349Z
LAST-MODIFIED:20260104T022118Z
UID:10001802-1756425600-1777247999@potluckasianamerica.org
SUMMARY:Exhibit: Creating Kosher Chop Suey
DESCRIPTION:What happened when chop suey\, a Chinese dish with American roots\, encountered Jewish customers in New York at the turn of the century? A new Center for Women’s History installation in the Joyce B. Cowin Women’s History Niche sheds light on the vibrant\, gastronomic collaboration between two ethnic communities. From debates in the Yiddish press to the publication of  kosher Chinese cookbooks\, and from representations in fine art to restaurant ephemera\, the installation explores how Jewish and Chinese women\, with a shared love for food\, together introduced a new phenomenon in the 1960s: kosher Chinese cuisine. Curated by Shiyong Lu\, Mellon Foundation Predoctoral Fellow in Women’s History and Public History\, and Anna Danziger Halperin\, Director for the Center for Women’s History.  \nImage: Gifford Reynolds Beal (1879–1956). Chinese Restaurant #1\, ca. 1930. Oil on wood panel (reproduction). The New York Historical\, Gift of Charles H. Berman and Norman and Joanne Berman\, 2022.9
URL:https://potluckasianamerica.org/event/exhibit-creating-kosher-chop-suey/
LOCATION:New York Historical Society\, 170 Central Park West\, New York\, NY\, 10024\, United States
CATEGORIES:Art Exhibit,In Person
ATTACH;FMTTYPE=image/jpeg:https://potluckasianamerica.org/wp-content/uploads/2025/09/aKOGV6Tt2nPbab2h_nyhs_2022_9__img01_20220602.jpg
END:VEVENT
BEGIN:VEVENT
DTSTART;VALUE=DATE:20250912
DTEND;VALUE=DATE:20260427
DTSTAMP:20260423T132339
CREATED:20250910T124427Z
LAST-MODIFIED:20251210T194619Z
UID:10001796-1757635200-1777247999@potluckasianamerica.org
SUMMARY:Exhibit: The New York Sari: A Journey Through Tradition\, Fashion\, and Identity
DESCRIPTION:The New York Sari showcases the deep influence that South Asians have had on the culture of New York City and how individuals have drawn strength from tradition while looking clearly towards a bolder future of inclusion and progress. \nThe New York Sari centers the sari as an essential part of the cultural fabric of New York City\, using it as a metaphor for the ways in which the individuals who wear and create saris have straddled tradition\, culture\, and modernity in their work\, art\, and lives. The exhibition tells the stories of who wears saris\, the relationship between saris and identities\, and how they’ve evolved over time. \nThe New York Sari showcases the deep influence that South Asians have had on the culture of New York City from the Gilded Age to the present day\, beginning with the little known history of Coney Island’s first theme park and culminating with the vibrant communities that are home to the South Asian diaspora today. Offering a unique history of migrant communities and gender in New York City\, the exhibition explores how individuals have drawn strength from tradition while looking clearly towards a bolder future of inclusion and progress.
URL:https://potluckasianamerica.org/event/the-exhibit-new-york-sari-a-journey-through-tradition-fashion-and-identity/
LOCATION:New York Historical Society\, 170 Central Park West\, New York\, NY\, 10024\, United States
CATEGORIES:Art Exhibit,In Person
ATTACH;FMTTYPE=image/jpeg:https://potluckasianamerica.org/wp-content/uploads/2025/09/unnamed-36.jpg
END:VEVENT
BEGIN:VEVENT
DTSTART;VALUE=DATE:20260328
DTEND;VALUE=DATE:20261027
DTSTAMP:20260423T132339
CREATED:20260327T140040Z
LAST-MODIFIED:20260327T140040Z
UID:10002456-1774656000-1793059199@potluckasianamerica.org
SUMMARY:Japan Fes NYC 2026:  Japanese Food Festival
DESCRIPTION:JAPAN Fes\, one of the city’s most beloved street food events\, is returning to celebrate a major milestone: its 10th anniversary in New York City\, bringing dozens of Japanese food vendors to the streets for a full day of snacking\, sipping and exploring.  Each event typically runs from 10 am to 6 pm and pops up in neighborhoods across Manhattan\, Brooklyn and Queens. \nHere are the 2026 JAPAN Fes dates in NYC: \nMarch 28 in the East Village\nMarch 29 in Midtown West \nApril 4 in the Village\nApril 5 on the Upper West Side\nApril 11 in the East Village\nApril 12 in the East Village\nApril 18 in Morningside Heights\nApril 19 in Chelsea\nApril 25 in Chelsea\nApril 26 in Astoria\nMay\nMay 2 on the Upper East Side\nMay 3 on the Upper West Side\nMay 9 in Chelsea\nMay 24 in the Village\nMay 30 on the Upper East Side\nMay 31 in the East Village\nJune\nJune 6 in the East Village\nJune 7 on the Upper West Side\nJune 14 in the East Village\nJune 21 in Brooklyn\nJune 27 in Times Square\nJune 28 in Astoria\nJuly\nJuly 11 in Chelsea\nJuly 19 in Times Square\nAugust\nAugust 2 on the Upper West Side\nSeptember\nSeptember 12 in Chelsea\nSeptember 13 in Chelsea\nSeptember 19 on the Upper East Side\nSeptember 26 in Morningside Heights\nSeptember 27 on the Upper East Side\nOctober\nOctober 3 in the East Village\nOctober 10 in Astoria\nOctober 24 in the East Village\nOctober 25 on the Upper West Side
URL:https://potluckasianamerica.org/event/japan-fes-nyc-2026-japanese-food-festival/
LOCATION:Multiple NYC locations
CATEGORIES:Food,In Person
ATTACH;FMTTYPE=image/webp:https://potluckasianamerica.org/wp-content/uploads/2026/03/jf.webp
END:VEVENT
BEGIN:VEVENT
DTSTART;TZID=America/New_York:20260423T143000
DTEND;TZID=America/New_York:20260423T173000
DTSTAMP:20260423T132339
CREATED:20260416T201921Z
LAST-MODIFIED:20260416T201921Z
UID:10002512-1776954600-1776965400@potluckasianamerica.org
SUMMARY:CryptoAI Summit 2026: The Singularity is Here?
DESCRIPTION:CryptoAI Summit 2026 is the premier forum exploring the strategic convergence of AI and Blockchain\, organized by Bitpush and China Institute of America. In 2026\, as speculation gives way to utility\, we move beyond the noise to examine the AI revolution. The summit dissects global competition\, the recalibration of market valuations\, and the structural tensions between unprecedented efficiency and the systemic “bubbles” of rapid automation. Simultaneously\, the summit deconstructs the maturing Crypto landscape. We analyze the evolution of institutional market cycles and the definitive shift toward real-world adoption and on-chain financial logic. By bridging these two forces\, the summit investigates whether the union of AI and Crypto is a fundamental necessity for decentralized intelligence or a critical alignment for the next era of global digital infrastructure. \nCI members can receive a complimentary ticket with code CIFREE. Seating is limited and available on a first-come\, first-served basis. \n\nConference Schedule \n\n\n\n14:30\nRegistration & Networking\nConnect with industry pioneers and visionaries to kick off the summit.\n\n\n15:00\nOpening Remarks \n\nMay Liu\, Managing Editor\, Bitpush\n\n\n\n\n15:30\nPanel Discussion #1 AI Is Taking Over——And We’re Letting It \n\nSusan Feng\, Director of Programs\, China Institute of America (moderator)\nDr. Tao Cheng\, Managing Director at Golden Seeds; former executive at BlackRock\, SVB & Ally Financial\nKen Huang\, AI Book Author\, CEO & Chief AI Officer (CAIO) of DistributedApps.ai\nSeamon Chan\, Founding Partner at Palm Drive Capital\n\nAdditional speakers to be announced…\n\n\n16:15\nPanel Discussion #2 Web 4.0 (Crypto + AI): Building the Autonomous Future \n\nKathryn Zhao\, Global Head of Electronic Trading\, Cantor Fitzgerald (moderator)\nDavid Hirsch\, Partner at McGuireWoods & Former SEC Enforcement Official\nHan Liu\, Founder and CEO of BitFi\nChad Liang\, Executive Vice President\, BitMart\n\nAdditional speakers to be announced…\n\n\n17:00\nPanel Discussion #3 Crypto’s Next Phase: Stablecoins\, On-Chain Markets & New Financial Infrastructure \n\nMay Liu\, Managing Editor\, Bitpush (moderator)\nKelly Ye\, Deputy CIO\, Avenir Group\nChaz\, Founding Engineer\, Solayer\n\nAdditional speakers to be announced…\n\n\n18:00\nVIP Afterparty & Networking
URL:https://potluckasianamerica.org/event/cryptoai-summit-2026-the-singularity-is-here/
LOCATION:China Institute of America\, 100 Washington Street\, New York\, NY\, 10006\, United States
CATEGORIES:Conference,In Person,Technology
ATTACH;FMTTYPE=image/webp:https://potluckasianamerica.org/wp-content/uploads/2026/04/CryptoAI-Summit-2026.jpg.webp
END:VEVENT
END:VCALENDAR