BEGIN:VCALENDAR
VERSION:2.0
PRODID:-//Potluck Asian America - ECPv6.15.20//NONSGML v1.0//EN
CALSCALE:GREGORIAN
METHOD:PUBLISH
X-ORIGINAL-URL:https://potluckasianamerica.org
X-WR-CALDESC:Events for Potluck Asian America
REFRESH-INTERVAL;VALUE=DURATION:PT1H
X-Robots-Tag:noindex
X-PUBLISHED-TTL:PT1H
BEGIN:VTIMEZONE
TZID:America/New_York
BEGIN:DAYLIGHT
TZOFFSETFROM:-0500
TZOFFSETTO:-0400
TZNAME:EDT
DTSTART:20240310T070000
END:DAYLIGHT
BEGIN:STANDARD
TZOFFSETFROM:-0400
TZOFFSETTO:-0500
TZNAME:EST
DTSTART:20241103T060000
END:STANDARD
BEGIN:DAYLIGHT
TZOFFSETFROM:-0500
TZOFFSETTO:-0400
TZNAME:EDT
DTSTART:20250309T070000
END:DAYLIGHT
BEGIN:STANDARD
TZOFFSETFROM:-0400
TZOFFSETTO:-0500
TZNAME:EST
DTSTART:20251102T060000
END:STANDARD
BEGIN:DAYLIGHT
TZOFFSETFROM:-0500
TZOFFSETTO:-0400
TZNAME:EDT
DTSTART:20260308T070000
END:DAYLIGHT
BEGIN:STANDARD
TZOFFSETFROM:-0400
TZOFFSETTO:-0500
TZNAME:EST
DTSTART:20261101T060000
END:STANDARD
END:VTIMEZONE
BEGIN:VEVENT
DTSTART;VALUE=DATE:20250907
DTEND;VALUE=DATE:20250929
DTSTAMP:20260423T114555
CREATED:20250808T124253Z
LAST-MODIFIED:20250927T090003Z
UID:10001658-1757203200-1759103999@potluckasianamerica.org
SUMMARY:Exhibit: Our Journeys: 50 Years After the Fall\,
DESCRIPTION:Vietnamese Boat People (VBP) is honored to present Our Journeys: 50 Years After the Fall\,\na traveling exhibition debuting in New York City in September 2025 at Think!Chinatown’s Studio. \nThis exhibition launch commemorates the 50th anniversary of the Fall of Saigon—a pivotal moment in Vietnamese history and the diaspora experience. Following the NYC debut\, Our Journeys will tour cities across the U.S. Visit our website for more details. \nOur Journeys is a curated multimedia experience\, inspired by the interviews and content generated by the Vietnamese Boat People podcast and programs. It is developed around the core concept that a story passed down is a gift—something given to another with intention and without obligation. For a community whose stories have often been told by others\, this exhibit centers the voices of the Vietnamese diaspora\, reclaiming the narrative through personal stories\, photographs\, multimedia displays\, and video essays. Visitors will be immersed in the resilience\, legacy\, and diversity of our community’s lived experiences. \nGallery Hours: Friday 3-6pm\, Sat-Sun 1-5pm
URL:https://potluckasianamerica.org/event/exhibit-our-journeys-50-years-after-the-fall/
LOCATION:Think!Chinatown Studio\, 1 Pike Street\, New York\, NY\, 10002
CATEGORIES:Art Exhibit,History,In Person
ATTACH;FMTTYPE=image/jpeg:https://potluckasianamerica.org/wp-content/uploads/2025/08/VBP_2025_Exhibition_Social_Post.jpeg
END:VEVENT
BEGIN:VEVENT
DTSTART;VALUE=DATE:20250907
DTEND;VALUE=DATE:20250929
DTSTAMP:20260423T114555
CREATED:20251110T174942Z
LAST-MODIFIED:20251110T174942Z
UID:10002070-1757203200-1759103999@potluckasianamerica.org
SUMMARY:Exhibit: Our Journeys: 50 Years After the Fall
DESCRIPTION:Vietnamese Boat People (VBP) is honored to present Our Journeys: 50 Years After the Fall\,\na traveling exhibition debuting in New York City ifrom Nov 1\, 2025 to Jan 18. 2026  at Think!Chinatown’s Studio. \nNov 1-Jan 18\, 2026: New York City \nThursday & Fridays 3-6pm except on holidays \nPartial Display \nThis exhibition commemorates the 50th anniversary of the Fall of Saigon—a pivotal moment in Vietnamese history and the diaspora experience. Following the NYC debut\, Our Journeys will tour cities across the U.S. Visit our website for more details. \nOur Journeys is a curated multimedia experience\, inspired by the interviews and content generated by the Vietnamese Boat People podcast and programs. It is developed around the core concept that a story passed down is a gift—something given to another with intention and without obligation. For a community whose stories have often been told by others\, this exhibit centers the voices of the Vietnamese diaspora\, reclaiming the narrative through personal stories\, photographs\, multimedia displays\, and video essays. Visitors will be immersed in the resilience\, legacy\, and diversity of our community’s lived experiences.
URL:https://potluckasianamerica.org/event/exhibit-our-journeys-50-years-after-the-fall-2/
LOCATION:Think!Chinatown Studio\, 1 Pike Street\, New York\, NY\, 10002
CATEGORIES:Art Exhibit,History,In Person
ATTACH;FMTTYPE=image/jpeg:https://potluckasianamerica.org/wp-content/uploads/2025/08/VBP_2025_Exhibition_Social_Post.jpeg
END:VEVENT
END:VCALENDAR